BEGIN:VCALENDAR
BEGIN:VEVENT
SUMMARY:Unterrichtsschluss nach der 6. Stunde
DTSTART;TZID=CET:20260202T080000
DTEND;TZID=CET:20260202T132500
DESCRIPTION:
LOCATION:
END:VEVENT
BEGIN:VEVENT
SUMMARY:Studientag
DTSTART:20260209T000000
DTEND:20260209T000000
DESCRIPTION:Schulinterne Lehrer:innenfortbildung
LOCATION:
END:VEVENT
BEGIN:VEVENT
SUMMARY:Unterrichtsschluss nach der 6. Stunde
DTSTART;TZID=CET:20260203T080000
DTEND;TZID=CET:20260203T132500
DESCRIPTION:
LOCATION:
END:VEVENT
BEGIN:VEVENT
SUMMARY:Zivilcourage - MuTiger-Stifung 9a und 9b
DTSTART;TZID=CET:20260129T095500
DTEND;TZID=CET:20260129T132500
DESCRIPTION:
LOCATION:
END:VEVENT
BEGIN:VEVENT
SUMMARY:Begrüßung Neue 5. Klassen
DTSTART;TZID=CEST:20260703T160000
DTEND;TZID=CEST:20260703T190000
DESCRIPTION:
LOCATION:
END:VEVENT
BEGIN:VEVENT
SUMMARY:Zivilcourage - MuTiger-Stifung 9d und 9e
DTSTART;TZID=CET:20260130T095500
DTEND;TZID=CET:20260130T132500
DESCRIPTION:
LOCATION:
END:VEVENT
BEGIN:VEVENT
SUMMARY:Elterncafe VK (Forum)
DTSTART;TZID=CEST:20250917T090000
DTEND;TZID=CEST:20250917T120000
DESCRIPTION:
LOCATION:Forum
END:VEVENT
BEGIN:VEVENT
SUMMARY:Anmeldungen Klasse 5
DTSTART;TZID=CET:20260304T080000
DTEND;TZID=CET:20260304T120000
DESCRIPTION:
LOCATION:
END:VEVENT
BEGIN:VEVENT
SUMMARY:Anmeldungen Klasse 5
DTSTART;TZID=CET:20260302T080000
DTEND;TZID=CET:20260302T180000
DESCRIPTION:
LOCATION:
END:VEVENT
BEGIN:VEVENT
SUMMARY:Anmeldungen Klasse 5
DTSTART;TZID=CET:20260303T080000
DTEND;TZID=CET:20260303T180000
DESCRIPTION:
LOCATION:
END:VEVENT
BEGIN:VEVENT
SUMMARY:AWO- Projekttag "Schutz vor digitalisierter Gewalt" 7d
DTSTART:20260507T000000
DTEND:20260507T000000
DESCRIPTION:
LOCATION:
END:VEVENT
BEGIN:VEVENT
SUMMARY:AWO- Projekttag "Schutz vor digitalisierter Gewalt" 7b
DTSTART:20260504T000000
DTEND:20260504T000000
DESCRIPTION:
LOCATION:
END:VEVENT
BEGIN:VEVENT
SUMMARY:AWO- Projekttag "Schutz vor digitalisierter Gewalt" 7c
DTSTART:20260505T000000
DTEND:20260505T000000
DESCRIPTION:
LOCATION:
END:VEVENT
BEGIN:VEVENT
SUMMARY:Elternabend "AWO-Schutz vor sexualisierter Gewalt" digital
DTSTART;TZID=CEST:20260429T180000
DTEND;TZID=CEST:20260429T190000
DESCRIPTION:
LOCATION:digital
END:VEVENT
BEGIN:VEVENT
SUMMARY:AWO- Projekttag "Schutz vor digitalisierter Gewalt" 7a
DTSTART:20260506T000000
DTEND:20260506T000000
DESCRIPTION:
LOCATION:
END:VEVENT
BEGIN:VEVENT
SUMMARY:Studientag
DTSTART:20251007T000000
DTEND:20251007T000000
DESCRIPTION:Schulinterne Lehrerfortbildung
LOCATION:
END:VEVENT
BEGIN:VEVENT
SUMMARY:Unterrichtsschluss Jg. 5 - 10 nach der 4. Stunde
DTSTART;TZID=CEST:20250702T113000
DTEND;TZID=CEST:20250702T160000
DESCRIPTION:
LOCATION:
END:VEVENT
BEGIN:VEVENT
SUMMARY:Klassen 5 - Klassenpflegschaftabend
DTSTART;TZID=CEST:20250908T180000
DTEND;TZID=CEST:20250908T210000
DESCRIPTION:
LOCATION:Treffpunkt Forum - danach Klassenräume
END:VEVENT
BEGIN:VEVENT
SUMMARY:Jg. EF - Jahrgangsstufenpflegschaftsabend
DTSTART;TZID=CEST:20250910T190000
DTEND;TZID=CEST:20250910T210000
DESCRIPTION:
LOCATION:Bruchstr. Raum A14
END:VEVENT
BEGIN:VEVENT
SUMMARY:Jg. Q1 - Jahrgangsstufenpflegschaftsabend
DTSTART;TZID=CEST:20250911T190000
DTEND;TZID=CEST:20250911T210000
DESCRIPTION:
LOCATION:Bruchstr. Raum A14
END:VEVENT
BEGIN:VEVENT
SUMMARY:1. Schulkonferenz
DTSTART;TZID=CEST:20251008T190000
DTEND;TZID=CEST:20251008T210000
DESCRIPTION:
LOCATION:
END:VEVENT
BEGIN:VEVENT
SUMMARY:Klassen 6 + 7 - Klassenpflegschaftsabend
DTSTART;TZID=CEST:20250909T190000
DTEND;TZID=CEST:20250909T210000
DESCRIPTION:
LOCATION:Klassenräume
END:VEVENT
BEGIN:VEVENT
SUMMARY:Klasse 05 -  Informationsgespräch Klassenpflegschaftsvertretung
DTSTART;TZID=CEST:20250917T190000
DTEND;TZID=CEST:20250917T210000
DESCRIPTION:
LOCATION:Schulleiterbüro
END:VEVENT
BEGIN:VEVENT
SUMMARY:Jg. 9 - Informationsabend Betriebspraktikum in Klasse 10
DTSTART;TZID=CEST:20250917T190000
DTEND;TZID=CEST:20250917T210000
DESCRIPTION:
LOCATION:Forum ?
END:VEVENT
BEGIN:VEVENT
SUMMARY:1. Schulpflegschaftsabend
DTSTART;TZID=CEST:20250925T190000
DTEND;TZID=CEST:20250925T210000
DESCRIPTION:
LOCATION:Forum
END:VEVENT
BEGIN:VEVENT
SUMMARY:Allerheiligen
DTSTART:20251101T000000
DTEND:20251101T000000
DESCRIPTION:
LOCATION:
END:VEVENT
BEGIN:VEVENT
SUMMARY:1. Advent
DTSTART:20251130T000000
DTEND:20251130T000000
DESCRIPTION:
LOCATION:
END:VEVENT
BEGIN:VEVENT
SUMMARY:Tag der Arbeit
DTSTART:20260501T000000
DTEND:20260501T000000
DESCRIPTION:
LOCATION:
END:VEVENT
BEGIN:VEVENT
SUMMARY:Pfingstsonntag
DTSTART:20260524T000000
DTEND:20260524T000000
DESCRIPTION:
LOCATION:
END:VEVENT
BEGIN:VEVENT
SUMMARY:Pfingstferien
DTSTART:20260526T000000
DTEND:20260526T000000
DESCRIPTION:
LOCATION:
END:VEVENT
BEGIN:VEVENT
SUMMARY:Fronleichnam
DTSTART:20260604T000000
DTEND:20260604T000000
DESCRIPTION:
LOCATION:
END:VEVENT
BEGIN:VEVENT
SUMMARY:4. Advent
DTSTART:20251221T000000
DTEND:20251221T000000
DESCRIPTION:
LOCATION:
END:VEVENT
BEGIN:VEVENT
SUMMARY:Weihnachtskonzert
DTSTART;TZID=CET:20251216T190000
DTEND;TZID=CET:20251216T210000
DESCRIPTION:
LOCATION:
END:VEVENT
BEGIN:VEVENT
SUMMARY:3. Advent
DTSTART:20251214T000000
DTEND:20251214T000000
DESCRIPTION:
LOCATION:
END:VEVENT
BEGIN:VEVENT
SUMMARY:Heiligabend
DTSTART:20251224T000000
DTEND:20251224T000000
DESCRIPTION:
LOCATION:
END:VEVENT
BEGIN:VEVENT
SUMMARY:Ostersonntag
DTSTART:20260405T000000
DTEND:20260405T000000
DESCRIPTION:
LOCATION:
END:VEVENT
BEGIN:VEVENT
SUMMARY:Weihnachtsferien (22.12.2025 - 06.01.2026)
DTSTART:20251222T000000
DTEND:20260106T000000
DESCRIPTION:
LOCATION:
END:VEVENT
BEGIN:VEVENT
SUMMARY:Klassen 10 - Klassenfahrten
DTSTART:20260209T000000
DTEND:20260213T000000
DESCRIPTION:
LOCATION:
END:VEVENT
BEGIN:VEVENT
SUMMARY:beweglicher Ferientag
DTSTART:20260605T000000
DTEND:20260605T000000
DESCRIPTION:
LOCATION:
END:VEVENT
BEGIN:VEVENT
SUMMARY:Pfingstmontag
DTSTART:20260525T000000
DTEND:20260525T000000
DESCRIPTION:
LOCATION:
END:VEVENT
BEGIN:VEVENT
SUMMARY:Sommerferien (20.07. - 01.09.2026)
DTSTART:20260720T000000
DTEND:20260901T000000
DESCRIPTION:
LOCATION:
END:VEVENT
BEGIN:VEVENT
SUMMARY:1. Weihnachtsfeiertag
DTSTART:20251225T000000
DTEND:20251225T000000
DESCRIPTION:
LOCATION:
END:VEVENT
BEGIN:VEVENT
SUMMARY:Rosenmontag - beweglicher Ferientag
DTSTART:20260216T000000
DTEND:20260216T000000
DESCRIPTION:
LOCATION:
END:VEVENT
BEGIN:VEVENT
SUMMARY:2. Advent
DTSTART:20251207T000000
DTEND:20251207T000000
DESCRIPTION:
LOCATION:
END:VEVENT
BEGIN:VEVENT
SUMMARY:beweglicher Ferientag
DTSTART:20260515T000000
DTEND:20260515T000000
DESCRIPTION:
LOCATION:
END:VEVENT
BEGIN:VEVENT
SUMMARY:2. Weihnachtsfeiertag
DTSTART:20251226T000000
DTEND:20251226T000000
DESCRIPTION:
LOCATION:
END:VEVENT
BEGIN:VEVENT
SUMMARY:Herbstferien (13.10. - 26.10.2025)
DTSTART:20251013T000000
DTEND:20251026T000000
DESCRIPTION:
LOCATION:
END:VEVENT
BEGIN:VEVENT
SUMMARY:2. Schulkonferenz
DTSTART;TZID=CET:20260319T190000
DTEND;TZID=CET:20260319T210000
DESCRIPTION:
LOCATION:
END:VEVENT
BEGIN:VEVENT
SUMMARY:Osterferien (30.03. - 12.04.2026)
DTSTART:20260330T000000
DTEND:20260412T000000
DESCRIPTION:
LOCATION:
END:VEVENT
BEGIN:VEVENT
SUMMARY:Ostermontag
DTSTART:20260406T000000
DTEND:20260406T000000
DESCRIPTION:
LOCATION:
END:VEVENT
BEGIN:VEVENT
SUMMARY:Klassen 08 - 10 - Klassenpflegschaftsabend
DTSTART;TZID=CEST:20250910T190000
DTEND;TZID=CEST:20250910T210000
DESCRIPTION:
LOCATION:Klassenräume
END:VEVENT
BEGIN:VEVENT
SUMMARY:Karfreitag
DTSTART:20260403T000000
DTEND:20260403T000000
DESCRIPTION:
LOCATION:
END:VEVENT
BEGIN:VEVENT
SUMMARY:Klassen 05 - Elternsprechtag
DTSTART;TZID=CET:20251125T150000
DTEND;TZID=CET:20251125T190000
DESCRIPTION:
LOCATION:
END:VEVENT
BEGIN:VEVENT
SUMMARY:Förder-Forderprojekt Jg. 8 und 9 (ausgewählte Schüler:innen)
DTSTART;TZID=CET:20260212T080000
DTEND;TZID=CET:20260212T093500
DESCRIPTION:
LOCATION:N.N.
END:VEVENT
BEGIN:VEVENT
SUMMARY:Förder-Forderprojekt Jg. 8 und 9 (ausgewählte Schüler:innen)
DTSTART;TZID=CET:20260210T080000
DTEND;TZID=CET:20260210T093500
DESCRIPTION:
LOCATION:N.N.
END:VEVENT
BEGIN:VEVENT
SUMMARY:Förder-Forderprojekt Jg. 8 und 9 (ausgewählte Schüler:innen)
DTSTART;TZID=CET:20260213T080000
DTEND;TZID=CET:20260213T093500
DESCRIPTION:
LOCATION:N.N.
END:VEVENT
BEGIN:VEVENT
SUMMARY:Förder-Forderprojekt Jg. 8 und 9 (ausgewählte Schüler:innen)
DTSTART;TZID=CET:20260211T080000
DTEND;TZID=CET:20260211T093500
DESCRIPTION:
LOCATION:N.N.
END:VEVENT
BEGIN:VEVENT
SUMMARY:Neujahr
DTSTART:20260101T000000
DTEND:20260101T000000
DESCRIPTION:
LOCATION:
END:VEVENT
BEGIN:VEVENT
SUMMARY:Christi Himmelfahrt
DTSTART:20260514T000000
DTEND:20260514T000000
DESCRIPTION:
LOCATION:
END:VEVENT
BEGIN:VEVENT
SUMMARY:3. Schulpflegschaftssitzung
DTSTART;TZID=CET:20260304T190000
DTEND;TZID=CET:20260304T210000
DESCRIPTION:
LOCATION:Forum
END:VEVENT
BEGIN:VEVENT
SUMMARY:"Tag der offenen Tür"
DTSTART;TZID=CET:20251122T090000
DTEND;TZID=CET:20251122T130000
DESCRIPTION:
LOCATION:
END:VEVENT
BEGIN:VEVENT
SUMMARY:Klassen 5 - klasseKlasse-Projekt
DTSTART:20260128T000000
DTEND:20260130T000000
DESCRIPTION:
LOCATION:Jugendherberge Duisburg
END:VEVENT
BEGIN:VEVENT
SUMMARY:Silvester
DTSTART:20251231T000000
DTEND:20251231T000000
DESCRIPTION:
LOCATION:
END:VEVENT
BEGIN:VEVENT
SUMMARY:Kultur am OP: "Frau Müller muss weg!" Gastspiel des Backsteinthea
 ters
DTSTART;TZID=CEST:20251003T160000
DTEND;TZID=CEST:20251003T183000
DESCRIPTION:
LOCATION:
END:VEVENT
BEGIN:VEVENT
SUMMARY:2. Schulpflegschaftssitzung
DTSTART;TZID=CET:20251105T190000
DTEND;TZID=CET:20251105T210000
DESCRIPTION:
LOCATION:Forum
END:VEVENT
BEGIN:VEVENT
SUMMARY:Ende des zweiten Kursabschnitts (SII) / Halbjahresende
DTSTART:20260206T000000
DTEND:20260206T000000
DESCRIPTION:
LOCATION:
END:VEVENT
BEGIN:VEVENT
SUMMARY:Infoabend kommende Q1 (Jgst. EF)
DTSTART;TZID=CET:20260310T190000
DTEND;TZID=CET:20260310T210000
DESCRIPTION:
LOCATION:Forum Von-Bock-Straße
END:VEVENT
BEGIN:VEVENT
SUMMARY:Infoabend kommende EF (Jgst. 10)
DTSTART;TZID=CET:20260309T190000
DTEND;TZID=CET:20260309T210000
DESCRIPTION:
LOCATION:Forum Von-Bock-Straße
END:VEVENT
BEGIN:VEVENT
SUMMARY:Erprobungsstufenkonferenz
DTSTART;TZID=CET:20251117T143000
DTEND;TZID=CET:20251117T180000
DESCRIPTION:
LOCATION:digital
END:VEVENT
BEGIN:VEVENT
SUMMARY:Zeugniskonferenzen
DTSTART;TZID=CET:20260202T140000
DTEND;TZID=CET:20260202T183000
DESCRIPTION:
LOCATION:
END:VEVENT
BEGIN:VEVENT
SUMMARY:Ende der Wahlen WPII
DTSTART:20260424T000000
DTEND:20260424T000000
DESCRIPTION:
LOCATION:
END:VEVENT
BEGIN:VEVENT
SUMMARY:Informationsabend WPII
DTSTART;TZID=CEST:20260415T190000
DTEND;TZID=CEST:20260415T210000
DESCRIPTION:
LOCATION:digital
END:VEVENT
BEGIN:VEVENT
SUMMARY:Informationsabend Grundschul-Eltern
DTSTART;TZID=CET:20251127T190000
DTEND;TZID=CET:20251127T210000
DESCRIPTION:
LOCATION:
END:VEVENT
BEGIN:VEVENT
SUMMARY:Wissensmesse Klasse 6
DTSTART;TZID=CEST:20260714T113000
DTEND;TZID=CEST:20260714T143000
DESCRIPTION:
LOCATION:
END:VEVENT
BEGIN:VEVENT
SUMMARY:Zeugniskonferenzen
DTSTART;TZID=CET:20260203T140000
DTEND;TZID=CET:20260203T183000
DESCRIPTION:
LOCATION:
END:VEVENT
BEGIN:VEVENT
SUMMARY:Wissensmesse Klasse 5
DTSTART;TZID=CEST:20260713T080000
DTEND;TZID=CEST:20260713T113000
DESCRIPTION:
LOCATION:
END:VEVENT
BEGIN:VEVENT
SUMMARY:DB KlassenlehrerInnen 5/6
DTSTART;TZID=CET:20260205T134500
DTEND;TZID=CET:20260205T151500
DESCRIPTION:
LOCATION:202
END:VEVENT
BEGIN:VEVENT
SUMMARY:Ende der Fremdsprachenwahl Klasse 6
DTSTART:20260424T000000
DTEND:20260424T000000
DESCRIPTION:
LOCATION:
END:VEVENT
BEGIN:VEVENT
SUMMARY:Schulentwicklungsgruppe
DTSTART;TZID=CEST:20250924T180000
DTEND;TZID=CEST:20250924T193000
DESCRIPTION:
LOCATION:
END:VEVENT
BEGIN:VEVENT
SUMMARY:Tag der deutschen Einheit
DTSTART:20251003T000000
DTEND:20251003T000000
DESCRIPTION:
LOCATION:
END:VEVENT
BEGIN:VEVENT
SUMMARY:Informationsabend Fremdsprachenwahl Klasse 6
DTSTART;TZID=CEST:20260416T190000
DTEND;TZID=CEST:20260416T210000
DESCRIPTION:
LOCATION:
END:VEVENT
BEGIN:VEVENT
SUMMARY:DB Klassenleitungen 6
DTSTART;TZID=CEST:20250822T133000
DTEND;TZID=CEST:20250822T143000
DESCRIPTION:
LOCATION:
END:VEVENT
BEGIN:VEVENT
SUMMARY:Sommerferien
DTSTART:20250714T000000
DTEND:20250826T000000
DESCRIPTION:14.7.-26.8.2025
LOCATION:
END:VEVENT
BEGIN:VEVENT
SUMMARY:Informationsveranstaltung Jg. 5-Q2 "Suchtprävention-Cannabis"
DTSTART;TZID=CET:20251118T190000
DTEND;TZID=CET:20251118T210000
DESCRIPTION:
LOCATION:digital
END:VEVENT
BEGIN:VEVENT
SUMMARY:Mülheimer Bildungsgespräch
DTSTART;TZID=CET:20260326T190000
DTEND;TZID=CET:20260326T210000
DESCRIPTION:Thema: „Generation Krise – Wie sich Klimawandel\, Kriege u
 nd Katastrophen auf unsere Kinder und Jugendlichen auswirken?“
LOCATION:Forum Von-Bock-Straße
END:VEVENT
BEGIN:VEVENT
SUMMARY:Kultur am OP: "Eine musikalische Reise um die Welt" Gastauftritt L
 ille&Band
DTSTART;TZID=CET:20251109T180000
DTEND;TZID=CET:20251109T200000
DESCRIPTION:
LOCATION:Forum Von-Bock-Straße
END:VEVENT
BEGIN:VEVENT
SUMMARY:Klassen 6 + 7 - Klassenpflegschaftsabend
DTSTART;TZID=CEST:20250909T190000
DTEND;TZID=CEST:20250909T210000
DESCRIPTION:
LOCATION:Klassenräume
END:VEVENT
BEGIN:VEVENT
SUMMARY:Studientag
DTSTART:20251031T000000
DTEND:20251031T000000
DESCRIPTION:
LOCATION:
END:VEVENT
BEGIN:VEVENT
SUMMARY:Jahresabschlussfeier
DTSTART;TZID=CET:20251219T120000
DTEND;TZID=CET:20251219T130000
DESCRIPTION:
LOCATION:Petrikirche
END:VEVENT
BEGIN:VEVENT
SUMMARY:Klassen 06 - Q1 - Elternsprechtag
DTSTART;TZID=CET:20251125T150000
DTEND;TZID=CET:20251125T180000
DESCRIPTION:
LOCATION:
END:VEVENT
BEGIN:VEVENT
SUMMARY:Weihnachtskonzert
DTSTART;TZID=CET:20251216T190000
DTEND;TZID=CET:20251216T210000
DESCRIPTION:
LOCATION:
END:VEVENT
BEGIN:VEVENT
SUMMARY:Ehemaligentreffen Abi 1988
DTSTART;TZID=CEST:20260411T170000
DTEND;TZID=CEST:20260411T220000
DESCRIPTION:
LOCATION:Teilneubau Von-Bock-Straße
END:VEVENT
END:VCALENDAR
